BEGIN:VCALENDAR
VERSION:2.0
PRODID:-//Luxembourg American Cultural Society - ECPv6.15.13.1//NONSGML v1.0//EN
CALSCALE:GREGORIAN
METHOD:PUBLISH
X-WR-CALNAME:Luxembourg American Cultural Society
X-ORIGINAL-URL:https://www.lacs.lu
X-WR-CALDESC:Events for Luxembourg American Cultural Society
REFRESH-INTERVAL;VALUE=DURATION:PT1H
X-Robots-Tag:noindex
X-PUBLISHED-TTL:PT1H
BEGIN:VTIMEZONE
TZID:UTC
BEGIN:STANDARD
TZOFFSETFROM:+0000
TZOFFSETTO:+0000
TZNAME:UTC
DTSTART:20190101T000000
END:STANDARD
END:VTIMEZONE
BEGIN:VEVENT
DTSTART;TZID=UTC:20201231T110000
DTEND;TZID=UTC:20201231T120000
DTSTAMP:20260419T101159
CREATED:20201103T045800Z
LAST-MODIFIED:20201230T004235Z
UID:3617-1609412400-1609416000@www.lacs.lu
SUMMARY:Live from Luxembourg- NYE Jazz Brunch featuring Michel Meis 4Tet
DESCRIPTION:ANNOUNCING…Our next Live from Luxembourg Virtual Concert… A New Year’s Eve Jazz Brunch featuring Luxembourg’s Michel Meis 4tet!\nWHEN:\nThursday\, December 31\, 2020. 11:00 AM Central Time \nWHERE: CLICK HERE TO VIEW THE SHOW \nCOST: \nThere is NO charge to view. Donations to the LACS are gratefully accepted. \nAbout the Michel Meis 4Tet:\nThe quartet around the drummer Michel Meis is making its mark on the European jazz scene with a sonic vocabulary that skillfully blends a traditional instrumentation with the fresh approach and the broad musical background of open-minded and fearless musicians. They effortlessly move from one extreme to the other. Unleashed rhythms culminate in lyrical melodies. Classical jazz elements steer towards lush electronic effects. Free improvisation ends up almost seamlessly in sophisticated\, detailed compositions. “To me\, being torn between different options doesn’t mean being undecided\, but rather passionately breaking down apparent barriers or bringing opposites in a dialogue” says Meis about his music. \nThe result is an exciting modern jazz that has been duly recognized by Double Moon/Challenge Records when they signed the quartet’s debut album “Lost in Translation” in their series “Jazz thing Next Generation” – a first for a Luxembourgish artist.
URL:https://www.lacs.lu/events/live-from-luxembourg-nye-jazz-brunch-featuring-michel-meis-4tet/
LOCATION:WI
END:VEVENT
END:VCALENDAR