BEGIN:VCALENDAR
VERSION:2.0
PRODID:-//Luxembourg American Cultural Society - ECPv5.4.0.1//NONSGML v1.0//EN
CALSCALE:GREGORIAN
METHOD:PUBLISH
X-WR-CALNAME:Luxembourg American Cultural Society
X-ORIGINAL-URL:https://www.lacs.lu
X-WR-CALDESC:Events for Luxembourg American Cultural Society
BEGIN:VTIMEZONE
TZID:America/Chicago
BEGIN:DAYLIGHT
TZOFFSETFROM:-0600
TZOFFSETTO:-0500
TZNAME:CDT
DTSTART:20190310T080000
END:DAYLIGHT
BEGIN:STANDARD
TZOFFSETFROM:-0500
TZOFFSETTO:-0600
TZNAME:CST
DTSTART:20191103T070000
END:STANDARD
END:VTIMEZONE
BEGIN:VEVENT
DTSTART;TZID=America/Chicago:20190906T180000
DTEND;TZID=America/Chicago:20190906T220000
DTSTAMP:20210423T094749
CREATED:20190709T095946Z
LAST-MODIFIED:20190709T100306Z
UID:2018-1567792800-1567807200@www.lacs.lu
SUMMARY:Luxembourg Beer and Wine Garden
DESCRIPTION:Enjoy the last of the wonderful Wisconsin summer nights in the beautiful Peche-Leider Luxembourg Gardens at the Luxembourg American Cultural Center. We invite you to join us for live music\, food\, fun\, and delicious Luxembourgish beer\, wine and hard cider. \nFREE admission. \nFood and Refreshments Available. \nFeaturing the talents of award-winning musician Ryan McIntyre.
URL:https://www.lacs.lu/event/luxembourg-beer-and-wine-garden/
LOCATION:Luxembourg American Cultural Society & Center\, 100 Peter Thein Ave\, Belgium\, WI\, 53004\, United States
END:VEVENT
END:VCALENDAR